BEGIN:VCALENDAR
VERSION:2.0
PRODID:-//Collins Family Reunion 2026 - ECPv6.15.20//NONSGML v1.0//EN
CALSCALE:GREGORIAN
METHOD:PUBLISH
X-WR-CALNAME:Collins Family Reunion 2026
X-ORIGINAL-URL:https://collinsfr.com
X-WR-CALDESC:Events for Collins Family Reunion 2026
REFRESH-INTERVAL;VALUE=DURATION:PT1H
X-Robots-Tag:noindex
X-PUBLISHED-TTL:PT1H
BEGIN:VTIMEZONE
TZID:UTC
BEGIN:STANDARD
TZOFFSETFROM:+0000
TZOFFSETTO:+0000
TZNAME:UTC
DTSTART:20250101T000000
END:STANDARD
END:VTIMEZONE
BEGIN:VEVENT
DTSTART;VALUE=DATE:20260821
DTEND;VALUE=DATE:20260824
DTSTAMP:20260420T031407
CREATED:20260319T185711Z
LAST-MODIFIED:20260419T223331Z
UID:480-1787270400-1787529599@collinsfr.com
SUMMARY:Collins Family Reunion 2026
DESCRIPTION:More Details to Follow
URL:https://collinsfr.com/event/collins-family-reunion-2026/
LOCATION:Mitchell Park – Brookfield\, 19900 River Road\, Brookfield\, WI\, 53045\, United States
ATTACH;FMTTYPE=image/png:https://collinsfr.com/wp-content/uploads/2026/04/Collins-Family-Reunion-Image-1920.png
END:VEVENT
END:VCALENDAR